BEGIN:VCALENDAR
VERSION:2.0
CALSCALE:GREGORIAN
BEGIN:VEVENT
SUMMARY:TAN-Z の Tango Intermediate-Advanced
DTSTART;TZID=Europe/Berlin:20260415T203000
DTEND;TZID=Europe/Berlin:20260415T220000
LOCATION:Ridlerstr. 31B\, 80339 München\, DE
DESCRIPTION:20:30-22:00 Tango II mit Luigi &amp; Fiona
STATUS:CONFIRMED
ORGANIZER:mailto:tan-z@outlook.de
SEQUENCE:3
BEGIN:VALARM
TRIGGER:-PT120M
ACTION:DISPLAY
END:VALARM
END:VEVENT
END:VCALENDAR
