BEGIN:VCALENDAR
VERSION:2.0
CALSCALE:GREGORIAN
BEGIN:VEVENT
SUMMARY:Wochenend Workshop für Anfänger
DTSTART;TZID=Europe/Berlin:20260418T100000
DTEND;TZID=Europe/Berlin:20260418T123000
LOCATION:Orleanstrasse 51\, 81667 München\, DE
DESCRIPTION:Intensiv Wochenend Workshop für Anfänger- ohne Vorkenntnisse! Der schnelle Einsteig in den Schönsten Tanz der Welt! 
STATUS:CONFIRMED
ORGANIZER:mailto:info@tango-lugo.de
SEQUENCE:3
BEGIN:VALARM
TRIGGER:-PT120M
ACTION:DISPLAY
END:VALARM
END:VEVENT
END:VCALENDAR
