BEGIN:VCALENDAR
VERSION:2.0
CALSCALE:GREGORIAN
BEGIN:VEVENT
SUMMARY:MILONGA EL-GIRO
DTSTART;TZID=Europe/Berlin:20260418T200000
DTEND;TZID=Europe/Berlin:20260418T235900
LOCATION:Argonstraße 16 a\, 86153 Augsburg\, DE
DESCRIPTION:Milonga tradicional mit Tandas und Cortinas – für Liebhaber klassischer Tangos\, Milongas und Valses – alle Tänzer (m/w/d)\, alle Niveaus\, alt und jung\, herzlich willkommen – Gastgeber: Marion &amp; Peter
STATUS:CONFIRMED
ORGANIZER:mailto:milonga@el-giro.de
SEQUENCE:3
BEGIN:VALARM
TRIGGER:-PT120M
ACTION:DISPLAY
END:VALARM
END:VEVENT
END:VCALENDAR
