BEGIN:VCALENDAR
VERSION:2.0
CALSCALE:GREGORIAN
BEGIN:VEVENT
SUMMARY:Anfänger Tango Argentino
DTSTART;TZID=Europe/Berlin:20260421T203000
DTEND;TZID=Europe/Berlin:20260421T220000
LOCATION:Neumarkter Straße 71 \, 81673  München\, DE
DESCRIPTION:Dienstag 20.30 - 22.00\nJederzeit einsteigen! Für Singels suchen wir gerne einen Partner.
STATUS:CONFIRMED
ORGANIZER:mailto:info@tango-maldito.de
SEQUENCE:3
BEGIN:VALARM
TRIGGER:-PT120M
ACTION:DISPLAY
END:VALARM
END:VEVENT
END:VCALENDAR
