BEGIN:VCALENDAR
VERSION:2.0
CALSCALE:GREGORIAN
BEGIN:VEVENT
SUMMARY:Tangolab Zeynep &amp; Sercan Intensiv Wochenende
DTSTART;TZID=Europe/Berlin:20260424T130000
DTEND;TZID=Europe/Berlin:20260424T170000
LOCATION:U3 Thalkirchen \,  München\, DE
DESCRIPTION:April WS wird verschoben/Ort ändert sichweitere Infos u. direke Anmeldungen early bird  160.-  bitte bei mir\, gerne paarweise 0163 19 515 19  Sylvester auch falls noch TanzpartnerInnen gesucht werden.
STATUS:CONFIRMED
ORGANIZER:mailto:kontakt@sylvester-wunderle.de
SEQUENCE:3
BEGIN:VALARM
TRIGGER:-PT120M
ACTION:DISPLAY
END:VALARM
END:VEVENT
END:VCALENDAR
