BEGIN:VCALENDAR
VERSION:2.0
CALSCALE:GREGORIAN
BEGIN:VEVENT
SUMMARY:Technik für LEADERS!
DTSTART;TZID=Europe/Berlin:20260425T110000
DTEND;TZID=Europe/Berlin:20260425T130000
LOCATION:fraunhoferstr. 27A\, 80469 München\, DE
DESCRIPTION:Balance\, Autonomy and Grounding\nWir organisieren unseren Körper für Stabilität ohne dabei die Verbindung zu verlieren.
STATUS:CONFIRMED
ORGANIZER:mailto:infotangoconnection@gmail.com
SEQUENCE:3
BEGIN:VALARM
TRIGGER:-PT120M
ACTION:DISPLAY
END:VALARM
END:VEVENT
END:VCALENDAR
