BEGIN:VCALENDAR
VERSION:2.0
CALSCALE:GREGORIAN
BEGIN:VEVENT
SUMMARY:✨TANgo Neo Noche✨ @TAN-Z
DTSTART;TZID=Europe/Berlin:20260424T203000
DTEND;TZID=Europe/Berlin:20260424T003000
LOCATION:Ridlerstr. 31B\, 80339 München\, DE
DESCRIPTION:✨TANgo Neo Noche✨ @TAN-Z\nNeolonga mit DJ Franco: 1 Nacht voller Nuevo-Vibes\, Alternativa &amp; Non-Tango\, die dich bewegen wird. Komm vorbei\, tanze dich frei ins WE!\nAnmeldung über den Link unten.
STATUS:CONFIRMED
ORGANIZER:mailto:tan-z@outlook.de
SEQUENCE:3
BEGIN:VALARM
TRIGGER:-PT120M
ACTION:DISPLAY
END:VALARM
END:VEVENT
END:VCALENDAR
